BEGIN:VCALENDAR
VERSION:2.0
PRODID:-//Lotus Caring Hands - ECPv6.15.17.1//NONSGML v1.0//EN
CALSCALE:GREGORIAN
METHOD:PUBLISH
X-ORIGINAL-URL:https://lotuscaringhands.org.uk
X-WR-CALDESC:Events for Lotus Caring Hands
REFRESH-INTERVAL;VALUE=DURATION:PT1H
X-Robots-Tag:noindex
X-PUBLISHED-TTL:PT1H
BEGIN:VTIMEZONE
TZID:UTC
BEGIN:STANDARD
TZOFFSETFROM:+0000
TZOFFSETTO:+0000
TZNAME:UTC
DTSTART:20240101T000000
END:STANDARD
END:VTIMEZONE
BEGIN:VEVENT
DTSTART;TZID=UTC:20250706T020000
DTEND;TZID=UTC:20250706T170000
DTSTAMP:20260420T030524
CREATED:20250227T074356Z
LAST-MODIFIED:20260304T104356Z
UID:26880-1751767200-1751821200@lotuscaringhands.org.uk
SUMMARY:Young LCH (YLCH) Careers Fair
DESCRIPTION:\n					\n						Sun\, 06/07/2025\n						\n					\n				\n			\n			\n				\n				\n				\n				\n				\n				\n				\n				\n				\n				\n					\n					\n						Alperton Community School Hall\, Ealing Road\, Wembley HA0 4PW\n						\n					\n				\n			\n			\n				\n				\n				\n				\n			\n				\n				\n				\n				\n				\n				\n				\n				\n				\n				\n				Format:\n\nAddress: Ealing Road\, Wembley HA0 4PW
URL:https://lotuscaringhands.org.uk/event/young-lch-ylch-careers-fair/
ATTACH;FMTTYPE=image/jpeg:https://lotuscaringhands.org.uk/wp-content/uploads/2025/02/Noticeboard3.jpg
END:VEVENT
END:VCALENDAR