BEGIN:VCALENDAR
VERSION:2.0
PRODID:-//Lotus Caring Hands - ECPv6.15.17.1//NONSGML v1.0//EN
CALSCALE:GREGORIAN
METHOD:PUBLISH
X-ORIGINAL-URL:https://lotuscaringhands.org.uk
X-WR-CALDESC:Events for Lotus Caring Hands
REFRESH-INTERVAL;VALUE=DURATION:PT1H
X-Robots-Tag:noindex
X-PUBLISHED-TTL:PT1H
BEGIN:VTIMEZONE
TZID:UTC
BEGIN:STANDARD
TZOFFSETFROM:+0000
TZOFFSETTO:+0000
TZNAME:UTC
DTSTART:20240101T000000
END:STANDARD
END:VTIMEZONE
BEGIN:VEVENT
DTSTART;TZID=UTC:20250323T090000
DTEND;TZID=UTC:20250323T170000
DTSTAMP:20260422T131140
CREATED:20241213T091713Z
LAST-MODIFIED:20250227T075444Z
UID:24545-1742720400-1742749200@lotuscaringhands.org.uk
SUMMARY:WTCF's Chess Tournaments
DESCRIPTION:\n					\n						Sun\, 03/23/2025\n						\n					\n				\n			\n			\n				\n				\n				\n				\n				\n				\n				\n				\n				\n				\n					\n					\n						Alperton Community School Hall\, Harrow HA0 4PW\n						\n					\n				\n			\n			\n				\n				\n				\n				\n			\n				\n				\n				\n				\n				\n				\n				\n				\n				\n				\n				Format:\n\nParticipants: Open to all communities\nAge category: Under 10\, Under 13\, Under 16 and Open\nSystem: Tournament 7 rounds (Swiss system)\nTime control: 15 mins + 5 sec for each\nPairing: Group 1: Under 10 and under 13\nGroup 2: Under 16 and Open\nMatch timing: 9 am to 5 pm (breaks between each rounds)\nRules: All matches will be conducted according to International Chess Rules\n\nPrizes / Trophies:\n\nUnder 10: 1st \, 2nd and 3rd prizes\nUnder 13: 1st \, 2nd and 3rd prizes\nUnder 16: 1st \, 2nd\, 3rd \, 4th & 5th prizes\nOpen: 1st \, 2nd\, 3rd \, 4th & 5th prizes\nSpecial award: Best female player\n\nPayment Structure\n\nUnder 10 and 13: £25 per player\nUnder 16 and Open: £30 per player
URL:https://lotuscaringhands.org.uk/event/wtcfs-chess-tournaments/
LOCATION:Alperton Community school hall\, Harrow\, HA0 4PW
ATTACH;FMTTYPE=image/jpeg:https://lotuscaringhands.org.uk/wp-content/uploads/2024/12/Lotus-9.jpg
END:VEVENT
END:VCALENDAR