BEGIN:VCALENDAR
VERSION:2.0
PRODID:-//Lotus Caring Hands - ECPv6.15.17.1//NONSGML v1.0//EN
CALSCALE:GREGORIAN
METHOD:PUBLISH
X-WR-CALNAME:Lotus Caring Hands
X-ORIGINAL-URL:https://lotuscaringhands.org.uk
X-WR-CALDESC:Events for Lotus Caring Hands
REFRESH-INTERVAL;VALUE=DURATION:PT1H
X-Robots-Tag:noindex
X-PUBLISHED-TTL:PT1H
BEGIN:VTIMEZONE
TZID:UTC
BEGIN:STANDARD
TZOFFSETFROM:+0000
TZOFFSETTO:+0000
TZNAME:UTC
DTSTART:20180101T000000
END:STANDARD
END:VTIMEZONE
BEGIN:VEVENT
DTSTART;TZID=UTC:20200112T173000
DTEND;TZID=UTC:20200112T190000
DTSTAMP:20260423T130355
CREATED:20241212T114931Z
LAST-MODIFIED:20241218T071939Z
UID:24205-1578850200-1578855600@lotuscaringhands.org.uk
SUMMARY:YLCH - Chess Workshop
DESCRIPTION:\n					\n						Sun\, 01/12/2020 - 5.30pm - 7.00pm\n						\n					\n				\n			\n			\n				\n				\n				\n				\n				\n				\n				\n				\n				\n				\n					\n					\n						Northolt Village Community Centre\n						\n					\n				\n			\n			\n				\n				\n				\n				\n			\n				\n				\n				\n				\n				\n				\n				\n				\n				\n				\n				Chess is a game of imagination and strategy\, one that provides rules\, order and opportunities for intellectual growth. A group showed a significant advancement in spatial\, numerical and administrative-directional abilities\, along with verbal aptitudes versus a controlled group. Research studies demonstrate the positive impact of chess on academic performance and emotional intelligence….
URL:https://lotuscaringhands.org.uk/event/ylch-chess-workshop-12-01-2020-sunday-5-30pm-7-00pm/
LOCATION:Northolt Village Community Centre\, Middlesex\, UB5 6AD
ATTACH;FMTTYPE=image/jpeg:https://lotuscaringhands.org.uk/wp-content/uploads/2024/12/Lotus-5.jpg
END:VEVENT
BEGIN:VEVENT
DTSTART;TZID=UTC:20191026T120000
DTEND;TZID=UTC:20191026T133000
DTSTAMP:20260423T130355
CREATED:20241211T100238Z
LAST-MODIFIED:20241226T123227Z
UID:25308-1572091200-1572096600@lotuscaringhands.org.uk
SUMMARY:Volunteering
DESCRIPTION:\n					\n						Sat\, 10/26/2019 - 12:00 pm - 1.30 pm\n						\n					\n				\n			\n			\n				\n				\n				\n				\n				\n				\n				\n				\n				\n				\n					\n					\n						Ruislip\n						\n					\n				\n			\n			\n				\n				\n				\n				\n			\n				\n				\n				\n				\n				\n				\n				\n				\n				\n				\n				At Lotus Caring Hands (LCH) we welcome your contribution whether it is a donation or volunteering. Regardless of the size of your contribution\, everyone is made to feel part of the team\, and as volunteer you are supported and appreciated throughout. \nYour role will be engaging and varied\, so you’ll never have a dull moment. No matter what your age\, ability or background volunteers are encouraged to develop their skills and excel to their full potential within their role at LCH. \nVolunteer at a Lotus Caring Hands Event \nFundraising should be just that – fun. If you think you can raise money by running an entire marathon or by just entering a fun run\, your effort will make a difference.\nAnd it doesn’t have to be all about exercise. Just get someone to sponsor you and you can do anything from holding a cake sale to a dinner party. You could even get paid to be silent! Whatever you end up doing\, you can get involved to help transform someone’s life and have some fun while doing it! \nYou can setup your own sponsorship page at http://uk.virginmoneygiving.com/charity-web/charity/finalCharityHomepage
URL:https://lotuscaringhands.org.uk/event/volunteering/
LOCATION:Ruislip\, HA4
ATTACH;FMTTYPE=image/jpeg:https://lotuscaringhands.org.uk/wp-content/uploads/2024/12/events-single.jpeg
END:VEVENT
END:VCALENDAR