BEGIN:VCALENDAR
VERSION:2.0
PRODID:-//Lotus Caring Hands - ECPv6.15.17.1//NONSGML v1.0//EN
CALSCALE:GREGORIAN
METHOD:PUBLISH
X-ORIGINAL-URL:https://lotuscaringhands.org.uk
X-WR-CALDESC:Events for Lotus Caring Hands
REFRESH-INTERVAL;VALUE=DURATION:PT1H
X-Robots-Tag:noindex
X-PUBLISHED-TTL:PT1H
BEGIN:VTIMEZONE
TZID:Europe/London
BEGIN:DAYLIGHT
TZOFFSETFROM:+0000
TZOFFSETTO:+0100
TZNAME:BST
DTSTART:20250330T010000
END:DAYLIGHT
BEGIN:STANDARD
TZOFFSETFROM:+0100
TZOFFSETTO:+0000
TZNAME:GMT
DTSTART:20251026T010000
END:STANDARD
BEGIN:DAYLIGHT
TZOFFSETFROM:+0000
TZOFFSETTO:+0100
TZNAME:BST
DTSTART:20260329T010000
END:DAYLIGHT
BEGIN:STANDARD
TZOFFSETFROM:+0100
TZOFFSETTO:+0000
TZNAME:GMT
DTSTART:20261025T010000
END:STANDARD
BEGIN:DAYLIGHT
TZOFFSETFROM:+0000
TZOFFSETTO:+0100
TZNAME:BST
DTSTART:20270328T010000
END:DAYLIGHT
BEGIN:STANDARD
TZOFFSETFROM:+0100
TZOFFSETTO:+0000
TZNAME:GMT
DTSTART:20271031T010000
END:STANDARD
END:VTIMEZONE
BEGIN:VEVENT
DTSTART;TZID=Europe/London:20260412T100000
DTEND;TZID=Europe/London:20260412T123000
DTSTAMP:20260419T174455
CREATED:20260403T100231Z
LAST-MODIFIED:20260403T104939Z
UID:27548-1775988000-1775997000@lotuscaringhands.org.uk
SUMMARY:Calling Volunteers in Harrow
DESCRIPTION:Lotus Caring Hands (LCH)\, in partnership with Harrow Litter Pickers (HLP)\, is organising a two-hour litter picking activity in South Harrow. \nWe are calling young and able volunteers to join us and help keep our community clean and welcoming. Please see the flyer for full details. \nDate – Sunday\, 12 April 2026\nTime – 10.00am – 12.30pm \nThe following guests will briefly join and support the volunteers: \n1. Harrow Mayoress – Cllr Anjana Patel \n2. Cllr Kuha Kumaran (Pinner Ward) \n3. Cllr Rajan Seelan (Wembley Central) \n4. Prospective South Harrow Roxeth Ward Councillor – Mr Kumarasamy Indachith \nThe Mayoress is expected to present medals to volunteers during a short appreciation session. \n👉 If you are interested in taking part\, please contact our trustee leading the activity:\nPara Saimarugan (Sai) – +44 7946 338672 \nLet’s come together and make a positive difference in our community 🌿
URL:https://lotuscaringhands.org.uk/event/calling-volunteers-in-harrow/
LOCATION:Roxeth Recreation Ground\, South Harrow
ATTACH;FMTTYPE=image/jpeg:https://lotuscaringhands.org.uk/wp-content/uploads/2026/04/Lotus-caring-hands.jpeg
END:VEVENT
END:VCALENDAR